BEGIN:VCALENDAR
VERSION:2.0
PRODID:-//Wight Orienteers - ECPv6.15.15//NONSGML v1.0//EN
CALSCALE:GREGORIAN
METHOD:PUBLISH
X-ORIGINAL-URL:https://www.wighto.org.uk
X-WR-CALDESC:Events for Wight Orienteers
REFRESH-INTERVAL;VALUE=DURATION:PT1H
X-Robots-Tag:noindex
X-PUBLISHED-TTL:PT1H
BEGIN:VTIMEZONE
TZID:Europe/London
BEGIN:DAYLIGHT
TZOFFSETFROM:+0000
TZOFFSETTO:+0100
TZNAME:BST
DTSTART:20250330T010000
END:DAYLIGHT
BEGIN:STANDARD
TZOFFSETFROM:+0100
TZOFFSETTO:+0000
TZNAME:GMT
DTSTART:20251026T010000
END:STANDARD
BEGIN:DAYLIGHT
TZOFFSETFROM:+0000
TZOFFSETTO:+0100
TZNAME:BST
DTSTART:20260329T010000
END:DAYLIGHT
BEGIN:STANDARD
TZOFFSETFROM:+0100
TZOFFSETTO:+0000
TZNAME:GMT
DTSTART:20261025T010000
END:STANDARD
BEGIN:DAYLIGHT
TZOFFSETFROM:+0000
TZOFFSETTO:+0100
TZNAME:BST
DTSTART:20270328T010000
END:DAYLIGHT
BEGIN:STANDARD
TZOFFSETFROM:+0100
TZOFFSETTO:+0000
TZNAME:GMT
DTSTART:20271031T010000
END:STANDARD
END:VTIMEZONE
BEGIN:VEVENT
DTSTART;TZID=Europe/London:20260315T000000
DTEND;TZID=Europe/London:20260315T235959
DTSTAMP:20260421T103254
CREATED:20260204T191115Z
LAST-MODIFIED:20260225T232604Z
UID:1119-1773532800-1773619199@www.wighto.org.uk
SUMMARY:Parkhurst Forest Orienteering
DESCRIPTION:Registration 10.00/ 11.45. Starts 10.30/ 12.00. Courses close 1.30 \nColour Coded Event with courses to suit all capabilities. \nThe event is to be held in the Northern area of Parkhurst Forest. \nPlease park in the main car park\, signed from the Forest Rd. \nNormal club entry fees apply with a discount for members. \nYou can enter on the day. \nParkhurst forest is a mixture of ancient woodland and plantation forestry. We used to use Parkhurst on a regular basis\, in fact it was the very site where our club held its first event. We are really looking forward to revisiting the site\, which is managed by Forestry England.  \nYou are advised to wear appropriate footwear\, full leg cover & take a whistle! \nThank you to Brian Bailey and Chris Pritchett for planning and organising this event. \nWe are looking forward to seeing you there!
URL:https://www.wighto.org.uk/event/parkhurst-forest
LOCATION:Parkhurst Forest\, car park\, Parkhurst Forest Car Park\, Newport\, PO30 5LZ
ORGANIZER;CN="Brian Bailey":MAILTO:info@wighto.org.uk
END:VEVENT
END:VCALENDAR